BEGIN:VCALENDAR
VERSION:2.0
PRODID:-//Andreas Mitschke - ECPv5.1.0//NONSGML v1.0//EN
CALSCALE:GREGORIAN
METHOD:PUBLISH
X-WR-CALNAME:Andreas Mitschke
X-ORIGINAL-URL:http://www.andreasmitschke.de
X-WR-CALDESC:Veranstaltungen im Andreas Mitschke
BEGIN:VTIMEZONE
TZID:Europe/Berlin
BEGIN:DAYLIGHT
TZOFFSETFROM:+0100
TZOFFSETTO:+0200
TZNAME:CEST
DTSTART:20250330T010000
END:DAYLIGHT
BEGIN:STANDARD
TZOFFSETFROM:+0200
TZOFFSETTO:+0100
TZNAME:CET
DTSTART:20251026T010000
END:STANDARD
END:VTIMEZONE
BEGIN:VEVENT
DTSTART;TZID=Europe/Berlin:20250411T150000
DTEND;TZID=Europe/Berlin:20250411T170000
DTSTAMP:20260420T085246
CREATED:20250127T191815Z
LAST-MODIFIED:20250227T190242Z
UID:2667-1744383600-1744390800@www.andreasmitschke.de
SUMMARY:Treffpunkt Wien - Operettenkonzert
DESCRIPTION:\nMadelaine Cain – Sopran \nLeipziger Symphonieorchester \nAndreas Mitschke – Dirigent und Moderation \nDas Leipziger Symphonieorchester mit der Sängerin Madelaine Cain laden Sie ein auf eine rasante und tänzerische Reise von Budapest nach Wien.\nEs erwartet Sie ein abwechslungsreiches Programm mit Werken von Johann Strauß\, Emmerich Kalman bis Fred Raymond und Leroy Anderson.\nSeien Sie dabei\, wenn die Csardasfürstin und Julischka in Wien feiern gehen. \n \n\n
URL:http://www.andreasmitschke.de/termin/operettenkonzert-5/
LOCATION:Kulturhaus Sonne Schkeuditz\, Schulstr\, 10\, Schkeuditz\, Sachsen\, 04435\, Deutschland
CATEGORIES:Konzert
END:VEVENT
END:VCALENDAR