BEGIN:VCALENDAR
VERSION:2.0
PRODID:-//Andreas Mitschke - ECPv5.1.0//NONSGML v1.0//EN
CALSCALE:GREGORIAN
METHOD:PUBLISH
X-WR-CALNAME:Andreas Mitschke
X-ORIGINAL-URL:http://www.andreasmitschke.de
X-WR-CALDESC:Veranstaltungen im Andreas Mitschke
BEGIN:VTIMEZONE
TZID:Europe/Berlin
BEGIN:DAYLIGHT
TZOFFSETFROM:+0100
TZOFFSETTO:+0200
TZNAME:CEST
DTSTART:20210328T010000
END:DAYLIGHT
BEGIN:STANDARD
TZOFFSETFROM:+0200
TZOFFSETTO:+0100
TZNAME:CET
DTSTART:20211031T010000
END:STANDARD
END:VTIMEZONE
BEGIN:VEVENT
DTSTART;TZID=Europe/Berlin:20211208T133000
DTEND;TZID=Europe/Berlin:20211208T141500
DTSTAMP:20260420T113012
CREATED:20210615T081504Z
LAST-MODIFIED:20211121T144548Z
UID:1207-1638970200-1638972900@www.andreasmitschke.de
SUMMARY:ABSAGE Schülerkonzert Bilder einer Ausstellung
DESCRIPTION:Modest Mussorgski (1839-1881)\nBilder einer Ausstellung \nSächsische Bläserphilharmonie\nModeration Claudia Scheibe\nDirigent: Andreas Mitschke \n
URL:http://www.andreasmitschke.de/termin/schuelerkonzert-bilder-einer-ausstellung-3/
LOCATION:Kulturhaus Torgau\, Torgau\, 04860 
CATEGORIES:Konzert,Schülerkonzert
ORGANIZER;CN="S%C3%A4chsische%20Bl%C3%A4serphilharmonie":MAILTO:info@saechsische-blaeserphilharmonie.de
END:VEVENT
END:VCALENDAR