BEGIN:VCALENDAR
VERSION:2.0
PRODID:-//Andreas Mitschke - ECPv5.1.0//NONSGML v1.0//EN
CALSCALE:GREGORIAN
METHOD:PUBLISH
X-WR-CALNAME:Andreas Mitschke
X-ORIGINAL-URL:http://www.andreasmitschke.de
X-WR-CALDESC:Veranstaltungen im Andreas Mitschke
BEGIN:VTIMEZONE
TZID:Europe/Berlin
BEGIN:DAYLIGHT
TZOFFSETFROM:+0100
TZOFFSETTO:+0200
TZNAME:CEST
DTSTART:20240331T010000
END:DAYLIGHT
BEGIN:STANDARD
TZOFFSETFROM:+0200
TZOFFSETTO:+0100
TZNAME:CET
DTSTART:20241027T010000
END:STANDARD
END:VTIMEZONE
BEGIN:VEVENT
DTSTART;TZID=Europe/Berlin:20241113T090000
DTEND;TZID=Europe/Berlin:20241113T094500
DTSTAMP:20260422T111020
CREATED:20240213T081436Z
LAST-MODIFIED:20240213T081436Z
UID:2305-1731488400-1731491100@www.andreasmitschke.de
SUMMARY:Schülerkonzert - Sounds of Cinema
DESCRIPTION:Leipziger Symphonieorchester \nLeitung: Andreas Mitschke \nWeitere Veranstaltungen: 11:00 Uhr\, 12.11.2024 09:00 Uhr und 11:00 Uhr\, \n14.11.2024 09:00 Uhr und 11:00 Uhr \n
URL:http://www.andreasmitschke.de/termin/schuelerkonzert-sounds-of-cinema-14/
LOCATION:Gewandhaus zu Leipzig – Mendelssohn-Saal\, Augustusplatz 8\, Leipzig\, Sachsen\, 04109\, Deutschland
CATEGORIES:Konzert,Schülerkonzert
END:VEVENT
END:VCALENDAR