BEGIN:VCALENDAR
VERSION:2.0
PRODID:-//Andreas Mitschke - ECPv5.1.0//NONSGML v1.0//EN
CALSCALE:GREGORIAN
METHOD:PUBLISH
X-WR-CALNAME:Andreas Mitschke
X-ORIGINAL-URL:http://www.andreasmitschke.de
X-WR-CALDESC:Veranstaltungen im Andreas Mitschke
BEGIN:VTIMEZONE
TZID:Europe/Berlin
BEGIN:DAYLIGHT
TZOFFSETFROM:+0100
TZOFFSETTO:+0200
TZNAME:CEST
DTSTART:20220327T010000
END:DAYLIGHT
BEGIN:STANDARD
TZOFFSETFROM:+0200
TZOFFSETTO:+0100
TZNAME:CET
DTSTART:20221030T010000
END:STANDARD
END:VTIMEZONE
BEGIN:VEVENT
DTSTART;TZID=Europe/Berlin:20221220T094000
DTEND;TZID=Europe/Berlin:20221220T094000
DTSTAMP:20260420T085614
CREATED:20220528T070949Z
LAST-MODIFIED:20220528T070949Z
UID:1632-1671529200-1671529200@www.andreasmitschke.de
SUMMARY:Schülerkonzerte Modest Mussorgski – Bilder einer Ausstellung
DESCRIPTION:Modest Mussorgski (1839-1881)\nBilder einer Ausstellung \nSächsische Bläserphilharmonie\nModeration:\nDirigent: Andreas Mitschke \nWeiteres Konzert 11:30 Uhr \n
URL:http://www.andreasmitschke.de/termin/schuelerkonzerte-modest-mussorgski-bilder-einer-ausstellung-6/
LOCATION:Friedrich-Tschanter-Oberschule\, Dorotheenstraße 4\, Eilenburg\, Sachsen\, 04838
CATEGORIES:Konzert,Schülerkonzert
ORGANIZER;CN="S%C3%A4chsische%20Bl%C3%A4serphilharmonie":MAILTO:info@saechsische-blaeserphilharmonie.de
END:VEVENT
END:VCALENDAR