BEGIN:VCALENDAR
VERSION:2.0
PRODID:-//Andreas Mitschke - ECPv5.1.0//NONSGML v1.0//EN
CALSCALE:GREGORIAN
METHOD:PUBLISH
X-WR-CALNAME:Andreas Mitschke
X-ORIGINAL-URL:http://www.andreasmitschke.de
X-WR-CALDESC:Veranstaltungen im Andreas Mitschke
BEGIN:VTIMEZONE
TZID:Europe/Berlin
BEGIN:DAYLIGHT
TZOFFSETFROM:+0100
TZOFFSETTO:+0200
TZNAME:CEST
DTSTART:20210328T010000
END:DAYLIGHT
BEGIN:STANDARD
TZOFFSETFROM:+0200
TZOFFSETTO:+0100
TZNAME:CET
DTSTART:20211031T010000
END:STANDARD
END:VTIMEZONE
BEGIN:VEVENT
DTSTART;TZID=Europe/Berlin:20211231T200000
DTEND;TZID=Europe/Berlin:20211231T204500
DTSTAMP:20260420T085210
CREATED:20211107T184506Z
LAST-MODIFIED:20211215T062302Z
UID:1390-1640980800-1640983500@www.andreasmitschke.de
SUMMARY:MUSIKALISCHE SILVESTER-ANDACHT
DESCRIPTION:Friederike Schönherr – Gesang \nEule-Orgel der Taborkirche Leipzig Kleinzschocher: \nAndreas Mitschke \nGeistliches Wort zum Jahresende: \nPf. Dr. Sebastian Ziera \n  \n
URL:http://www.andreasmitschke.de/termin/silvesterorgelkonzert/
LOCATION:Taborkirche Leipzig\, Windorfer Str. 49\, Leipzig\, Sachsen\, 04229\, Deutschland
CATEGORIES:Kirchenmusik,Konzert,Orgel
END:VEVENT
END:VCALENDAR